BEGIN:VCALENDAR
VERSION:2.0
PRODID:-//eventon.com NONSGML v1.0//EN
BEGIN:VEVENT
UID:69e5820d7cb14
DTSTAMP:20260420T013157
DTSTART:20240514
DTEND:20240515
TZID:America/Araguaina
LOCATION:
SUMMARY:ICN Annual Conference Brazil 2024
DESCRIPTION: \nhttps://www.internationalcompetitionnetwork.org/events/icn-annual-conference-brazil-2024/
URL:https://www.internationalcompetitionnetwork.org/events/icn-annual-conference-brazil-2024/
END:VEVENT
END:VCALENDAR